BEGIN:VCALENDAR
VERSION:2.0
PRODID:-//Stark Body Flying - ECPv4.6.25//NONSGML v1.0//EN
CALSCALE:GREGORIAN
METHOD:PUBLISH
X-WR-CALNAME:Stark Body Flying
X-ORIGINAL-URL:https://stark-clone.sansalvastorie.it
X-WR-CALDESC:Eventi per Stark Body Flying
BEGIN:VEVENT
DTSTART;TZID=Europe/Rome:20220703T090000
DTEND;TZID=Europe/Rome:20220703T170000
DTSTAMP:20260421T234605
CREATED:20220516T102538Z
LAST-MODIFIED:20220516T102538Z
UID:7118-1656838800-1656867600@stark-clone.sansalvastorie.it
SUMMARY:Corso istruttori STARK Body Flying® Pilates 3 Luglio 2022 - Dal vivo su Zoom
DESCRIPTION:Un percorso nel mondo del Pilates sviluppato e ampliato con l’utilizzo dell’attrezzo Body Flying. Il corso sviluppa la tecnica del Pilates in sospensione. Il repertorio Joseph Pilates Matwork (piccoli attrezzi) e gli esercizi Studio (Reformer\, Cadillac\, Ladder Barrel e Chair)  in abbinamento con il metodo STARK Body Flying® ti permetterà di proporre un Pilates innovativo e divertente. \nCOME FUNZIONA: \n\nCome dal vivo.\nCon collegamento Zoom\, preferibilmente avendo l’attrezzo vicino per poter provare le posizioni.\nSeguirai la formazione nell’orario previsto dal corso\nDurata: Una giornata.\nRequisiti: Aver partecipato al Corso Propedeutico o Classic.\nAl termine del corso viene rilasciato l’Attestato di partecipazione Stark.\n\n.fusion-button.button-1 .fusion-button-text\, .fusion-button.button-1 i {color:#f44336;}.fusion-button.button-1 {border-width:2px;border-color:#f44336;}.fusion-button.button-1 .fusion-button-icon-divider{border-color:#f44336;}.fusion-button.button-1:hover .fusion-button-text\, .fusion-button.button-1:hover i\,.fusion-button.button-1:focus .fusion-button-text\, .fusion-button.button-1:focus i\,.fusion-button.button-1:active .fusion-button-text\, .fusion-button.button-1:active{color:#ffffff;}.fusion-button.button-1:hover\, .fusion-button.button-1:focus\, .fusion-button.button-1:active{border-width:2px;border-color:#ffffff;}.fusion-button.button-1:hover .fusion-button-icon-divider\, .fusion-button.button-1:hover .fusion-button-icon-divider\, .fusion-button.button-1:active .fusion-button-icon-divider{border-color:#ffffff;}.fusion-button.button-1{width:auto;}ISCRIVITI SUBITO\n
URL:https://stark-clone.sansalvastorie.it/event/corso-istruttori-stark-body-flying-pilates-on-line-2-2-2-2-2-2-2-2/
ATTACH;FMTTYPE=image/jpeg:https://stark-clone.sansalvastorie.it/wp-content/uploads/2016/11/thumb-corso-pilates.jpg
END:VEVENT
END:VCALENDAR