BEGIN:VCALENDAR
VERSION:2.0
PRODID:-//Stark Body Flying - ECPv4.6.25//NONSGML v1.0//EN
CALSCALE:GREGORIAN
METHOD:PUBLISH
X-WR-CALNAME:Stark Body Flying
X-ORIGINAL-URL:https://stark-clone.sansalvastorie.it
X-WR-CALDESC:Eventi per Stark Body Flying
BEGIN:VEVENT
DTSTART;TZID=Europe/Rome:20210228T093000
DTEND;TZID=Europe/Rome:20210228T170000
DTSTAMP:20260422T220852
CREATED:20210122T152305Z
LAST-MODIFIED:20210125T093900Z
UID:6536-1614504600-1614531600@stark-clone.sansalvastorie.it
SUMMARY:Corso istruttori STARK Body Flying®Functional 28 Febbraio 2021 - Dal vivo su Zoom
DESCRIPTION:Una giornata full-immersion\, dedicata all’allenamento funzionale\, dove le manopole e il drappo centrale vengono utilizzate per aumentare la forza. \nCOME FUNZIONA: \n\nCome dal vivo.\nCon collegamento Zoom\, preferibilmente avendo l’attrezzo vicino per poter provare le posizioni.\nSeguirai la formazione nell’orario previsto dal corso\nDurata: Una giornata.\nRequisiti: Aver partecipato al Corso Propedeutico o Classic.\nAl termine del corso viene rilasciato l’Attestato di partecipazione Stark.\n\n.fusion-button.button-1 .fusion-button-text\, .fusion-button.button-1 i {color:#f44336;}.fusion-button.button-1 {border-width:2px;border-color:#f44336;}.fusion-button.button-1 .fusion-button-icon-divider{border-color:#f44336;}.fusion-button.button-1:hover .fusion-button-text\, .fusion-button.button-1:hover i\,.fusion-button.button-1:focus .fusion-button-text\, .fusion-button.button-1:focus i\,.fusion-button.button-1:active .fusion-button-text\, .fusion-button.button-1:active{color:#ffffff;}.fusion-button.button-1:hover\, .fusion-button.button-1:focus\, .fusion-button.button-1:active{border-width:2px;border-color:#ffffff;}.fusion-button.button-1:hover .fusion-button-icon-divider\, .fusion-button.button-1:hover .fusion-button-icon-divider\, .fusion-button.button-1:active .fusion-button-icon-divider{border-color:#ffffff;}.fusion-button.button-1{width:auto;}ISCRIVITI SUBITO\n
URL:https://stark-clone.sansalvastorie.it/event/corso-istruttori-stark-body-flying-functional/
ATTACH;FMTTYPE=image/png:https://stark-clone.sansalvastorie.it/wp-content/uploads/2021/01/Dalò-Functional-evento-sito.png
END:VEVENT
END:VCALENDAR