BEGIN:VCALENDAR
VERSION:2.0
PRODID:-//Stark Body Flying - ECPv4.6.25//NONSGML v1.0//EN
CALSCALE:GREGORIAN
METHOD:PUBLISH
X-WR-CALNAME:Stark Body Flying
X-ORIGINAL-URL:https://stark-clone.sansalvastorie.it
X-WR-CALDESC:Eventi per Stark Body Flying
BEGIN:VEVENT
DTSTART;TZID=Europe/Rome:20201205T093000
DTEND;TZID=Europe/Rome:20201205T180000
DTSTAMP:20260423T004041
CREATED:20201202T094740Z
LAST-MODIFIED:20201202T100452Z
UID:6482-1607160600-1607191200@stark-clone.sansalvastorie.it
SUMMARY:Corso istruttori STARK Body Flying® Classic 1° livello - 5 Dicembre 2020 - Dal Vivo su Zoom
DESCRIPTION:Il corso prevede una giornata di formazione e allenamento professionale\, che copriranno gli aspetti teorici e pratici del Metodo Stark Body Flying®\, questa innovativa tecnica di allenamento in sospensione. \n\nAnalizzerai i cinque principi del metodo Stark Body Flying®\nLavorerai in semi-sospensione e sospensione totale.\nImparerai esercizi e sequenze di livello base e intermedio.\nAnalizzerai il focus degli esercizi Stark Body Flying®\, per comprenderne i principi di anatomia e biomeccanica.\n\nCOME FUNZIONA: \n\nCome dal vivo.\nCon collegamento Zoom\, preferibilmente avendo l’attrezzo vicino per poter provare le posizioni.\nSeguirai la formazione nell’orario previsto dal corso.\nA termine del corso riceverai l’attestato di partecipazione.\nRequisiti: Per questo modulo non sono richiesti requisiti particolari.\nDurata: Un giorno di formazione\, con un manuale di 90 pag. totali in formato digitale.\nCOSTI: Corso di formazione 180\,00 €\, in offerta 150 €\nPer Certificazione CONI contattateci.\n\n.fusion-button.button-1 .fusion-button-text\, .fusion-button.button-1 i {color:#f44336;}.fusion-button.button-1 {border-width:2px;border-color:#f44336;}.fusion-button.button-1 .fusion-button-icon-divider{border-color:#f44336;}.fusion-button.button-1:hover .fusion-button-text\, .fusion-button.button-1:hover i\,.fusion-button.button-1:focus .fusion-button-text\, .fusion-button.button-1:focus i\,.fusion-button.button-1:active .fusion-button-text\, .fusion-button.button-1:active{color:#ffffff;}.fusion-button.button-1:hover\, .fusion-button.button-1:focus\, .fusion-button.button-1:active{border-width:2px;border-color:#ffffff;}.fusion-button.button-1:hover .fusion-button-icon-divider\, .fusion-button.button-1:hover .fusion-button-icon-divider\, .fusion-button.button-1:active .fusion-button-icon-divider{border-color:#ffffff;}.fusion-button.button-1{width:auto;}ISCRIVITI SUBITO\n
URL:https://stark-clone.sansalvastorie.it/event/stark%e2%80%8b-%e2%80%8bbody%e2%80%8b-%e2%80%8bflying%e2%80%8b-%e2%80%8bbase-3-2-2/
ATTACH;FMTTYPE=image/jpeg:https://stark-clone.sansalvastorie.it/wp-content/uploads/2016/11/img-disciplina-generale.jpg
END:VEVENT
END:VCALENDAR