BEGIN:VCALENDAR
VERSION:2.0
PRODID:-//Stark Body Flying - ECPv4.6.25//NONSGML v1.0//EN
CALSCALE:GREGORIAN
METHOD:PUBLISH
X-WR-CALNAME:Stark Body Flying
X-ORIGINAL-URL:https://stark-clone.sansalvastorie.it
X-WR-CALDESC:Eventi per Stark Body Flying
BEGIN:VEVENT
DTSTART;TZID=Europe/Rome:20200627T093000
DTEND;TZID=Europe/Rome:20200627T173000
DTSTAMP:20260423T084410
CREATED:20200506T093929Z
LAST-MODIFIED:20200623T090550Z
UID:6096-1593250200-1593279000@stark-clone.sansalvastorie.it
SUMMARY:Corso istruttori STARK Body Flying®Functional 27 Giugno 2020 - Dal vivo su Zoom
DESCRIPTION:Una giornata full-immersion\, dedicata all’allenamento funzionale\, dove le manopole e il drappo centrale vengono utilizzate per aumentare la forza. \nCOME FUNZIONA: \n\nCome dal vivo.\nCon collegamento Zoom\, preferibilmente avendo l’attrezzo vicino per poter provare le posizioni.\nSeguirai la formazione nell’orario previsto dal corso\nDurata: Una giornata.\nRequisiti: Aver partecipato al Corso Propedeutico o Classic.\nAl termine del corso viene rilasciato l’Attestato di partecipazione Stark.\n\n.fusion-button.button-1 .fusion-button-text\, .fusion-button.button-1 i {color:#f44336;}.fusion-button.button-1 {border-width:2px;border-color:#f44336;}.fusion-button.button-1 .fusion-button-icon-divider{border-color:#f44336;}.fusion-button.button-1:hover .fusion-button-text\, .fusion-button.button-1:hover i\,.fusion-button.button-1:focus .fusion-button-text\, .fusion-button.button-1:focus i\,.fusion-button.button-1:active .fusion-button-text\, .fusion-button.button-1:active{color:#ffffff;}.fusion-button.button-1:hover\, .fusion-button.button-1:focus\, .fusion-button.button-1:active{border-width:2px;border-color:#ffffff;}.fusion-button.button-1:hover .fusion-button-icon-divider\, .fusion-button.button-1:hover .fusion-button-icon-divider\, .fusion-button.button-1:active .fusion-button-icon-divider{border-color:#ffffff;}.fusion-button.button-1{width:auto;}ISCRIVITI SUBITO\n
URL:https://stark-clone.sansalvastorie.it/event/corso-istruttori-stark-body-flying-functional-milano-2-2/
ATTACH;FMTTYPE=image/jpeg:https://stark-clone.sansalvastorie.it/wp-content/uploads/2018/12/PC120219.jpg
END:VEVENT
BEGIN:VEVENT
DTSTART;TZID=Europe/Rome:20200627T093000
DTEND;TZID=Europe/Rome:20200628T173000
DTSTAMP:20260423T084410
CREATED:20200624T110102Z
LAST-MODIFIED:20200624T110116Z
UID:6155-1593250200-1593365400@stark-clone.sansalvastorie.it
SUMMARY:Corso istruttori Stark Body Flying® 27 e 28 Giugno 2020  - Dal Vivo su Zoom
DESCRIPTION:Durante queste giornate scoprirai passo dopo passo tutti i principi del Metodo Stark Body Flying®\, un viaggio alla scoperta del lavoro in sospensione trattando elementi di anatomia\, fisiologia e postura. \nSarai guidato nella costruzione di lezioni da proporre ai tuoi clienti il manuale in dotazione faciliterà l’apprendimento del metodo con tutte le indicazione necessarie per creare una classe stimolante\, efficace e divertente. \nCOME FUNZIONA: \n\nCome dal vivo.\nCon collegamento Zoom\, preferibilmente avendo l’attrezzo vicino per poter provare le posizioni.\nSeguirai la formazione nell’orario previsto dal corso.\nA termine del corso riceverai l’attestato di partecipazione\nRequisiti: Per questo modulo non sono richiesti requisiti particolari\nDurata: Due giorni di formazione\, con due manuali di 130 pag. totali in formato digitale.\nCOSTI: Corso di formazione 360\,00 €\, Certificazione 160\,00 €.\n\n.fusion-button.button-2 .fusion-button-text\, .fusion-button.button-2 i {color:#f44336;}.fusion-button.button-2 {border-width:2px;border-color:#f44336;}.fusion-button.button-2 .fusion-button-icon-divider{border-color:#f44336;}.fusion-button.button-2:hover .fusion-button-text\, .fusion-button.button-2:hover i\,.fusion-button.button-2:focus .fusion-button-text\, .fusion-button.button-2:focus i\,.fusion-button.button-2:active .fusion-button-text\, .fusion-button.button-2:active{color:#ffffff;}.fusion-button.button-2:hover\, .fusion-button.button-2:focus\, .fusion-button.button-2:active{border-width:2px;border-color:#ffffff;}.fusion-button.button-2:hover .fusion-button-icon-divider\, .fusion-button.button-2:hover .fusion-button-icon-divider\, .fusion-button.button-2:active .fusion-button-icon-divider{border-color:#ffffff;}.fusion-button.button-2{width:auto;}ISCRIVITI SUBITO\n
URL:https://stark-clone.sansalvastorie.it/event/stark%e2%80%8b-%e2%80%8bbody%e2%80%8b-%e2%80%8bflying%e2%80%8b-%e2%80%8b%e2%80%8b-%e2%80%8bcorso%e2%80%8b-%e2%80%8bbody%e2%80%8b-%e2%80%8bflying%e2%80%8b-%e2%80%8bclassic-5-2-2-2-2/
ATTACH;FMTTYPE=image/jpeg:https://stark-clone.sansalvastorie.it/wp-content/uploads/2016/11/img-disciplina-generale.jpg
END:VEVENT
BEGIN:VEVENT
DTSTART;TZID=Europe/Rome:20200627T093000
DTEND;TZID=Europe/Rome:20200627T180000
DTSTAMP:20260423T084410
CREATED:20200626T095054Z
LAST-MODIFIED:20200626T095113Z
UID:6168-1593250200-1593280800@stark-clone.sansalvastorie.it
SUMMARY:Corso istruttori STARK Body Flying® BASE - 27 Giugno 2020 - Dal Vivo su Zoom
DESCRIPTION:Durante questa giornata scoprirai passo dopo passo tutti i principi del Metodo Stark Body Flying®\, un viaggio alla scoperta del lavoro in sospensione\, trattando elementi di anatomia\, fisiologia e postura. \nSarai guidato nella costruzione di lezioni da proporre ai tuoi clienti\, il manuale in dotazione faciliterà l’apprendimento del metodo con tutte le indicazione necessarie per creare una classe stimolante\, efficace e divertente. \nCOME FUNZIONA: \n\nCome dal vivo.\nCon collegamento Zoom\, preferibilmente avendo l’attrezzo vicino per poter provare le posizioni.\nSeguirai la formazione nell’orario previsto dal corso.\nA termine del corso riceverai l’attestato di partecipazione.\nRequisiti: Per questo modulo non sono richiesti requisiti particolari.\nDurata: Un giorno di formazione\, con due manuali di 90 pag. totali in formato digitale.\nCOSTI: Corso di formazione 180\,00 €\, in offerta 150 €\nPer Certificazione CONI contattateci.\n\n.fusion-button.button-3 .fusion-button-text\, .fusion-button.button-3 i {color:#f44336;}.fusion-button.button-3 {border-width:2px;border-color:#f44336;}.fusion-button.button-3 .fusion-button-icon-divider{border-color:#f44336;}.fusion-button.button-3:hover .fusion-button-text\, .fusion-button.button-3:hover i\,.fusion-button.button-3:focus .fusion-button-text\, .fusion-button.button-3:focus i\,.fusion-button.button-3:active .fusion-button-text\, .fusion-button.button-3:active{color:#ffffff;}.fusion-button.button-3:hover\, .fusion-button.button-3:focus\, .fusion-button.button-3:active{border-width:2px;border-color:#ffffff;}.fusion-button.button-3:hover .fusion-button-icon-divider\, .fusion-button.button-3:hover .fusion-button-icon-divider\, .fusion-button.button-3:active .fusion-button-icon-divider{border-color:#ffffff;}.fusion-button.button-3{width:auto;}ISCRIVITI SUBITO\n
URL:https://stark-clone.sansalvastorie.it/event/stark%e2%80%8b-%e2%80%8bbody%e2%80%8b-%e2%80%8bflying%e2%80%8b-%e2%80%8bbase-2/
ATTACH;FMTTYPE=image/jpeg:https://stark-clone.sansalvastorie.it/wp-content/uploads/2016/11/img-disciplina-generale.jpg
END:VEVENT
END:VCALENDAR