BEGIN:VCALENDAR
VERSION:2.0
PRODID:-//Stark Body Flying - ECPv4.6.25//NONSGML v1.0//EN
CALSCALE:GREGORIAN
METHOD:PUBLISH
X-WR-CALNAME:Stark Body Flying
X-ORIGINAL-URL:https://stark-clone.sansalvastorie.it
X-WR-CALDESC:Eventi per Stark Body Flying
BEGIN:VEVENT
DTSTART;TZID=Europe/Rome:20200425T093000
DTEND;TZID=Europe/Rome:20200426T173000
DTSTAMP:20260423T112838
CREATED:20200228T113209Z
LAST-MODIFIED:20200311T143001Z
UID:5805-1587807000-1587922200@stark-clone.sansalvastorie.it
SUMMARY:Teacher Traning Stark Body Flying® Classic 25t and 26  April 2020 - Palma de Mallorca
DESCRIPTION:The course includes: \n\nTheoretical and Practical 2 manual\n16 hours with Antonella Faleschini\, the creator of the Method Stark Body Flying® .\nExam\nWork protocols\nAdvertising material\nInsertion on the website Stark® for one year\nCertificate of attendance\n\nWith completion of the teacher training\, you will be qualified to: \n\nTeach Stark Body Flying ® Method according to the five principles.\nWork in semi-suspension and suspension.\nTeach basic\, intermediate and advanced exercise and routines.\nAdapt a class for different levels and provide modification for physical conditions.\nWork with individual lesson or group.\nAdapt the exercises for different students age or physical conditions.\nAnalyze the focus of Stark Body exercises\, based on anatomical and postural biomechanical principles.\n\n.fusion-button.button-1 .fusion-button-text\, .fusion-button.button-1 i {color:#f44336;}.fusion-button.button-1 {border-width:2px;border-color:#f44336;}.fusion-button.button-1 .fusion-button-icon-divider{border-color:#f44336;}.fusion-button.button-1:hover .fusion-button-text\, .fusion-button.button-1:hover i\,.fusion-button.button-1:focus .fusion-button-text\, .fusion-button.button-1:focus i\,.fusion-button.button-1:active .fusion-button-text\, .fusion-button.button-1:active{color:#ffffff;}.fusion-button.button-1:hover\, .fusion-button.button-1:focus\, .fusion-button.button-1:active{border-width:2px;border-color:#ffffff;}.fusion-button.button-1:hover .fusion-button-icon-divider\, .fusion-button.button-1:hover .fusion-button-icon-divider\, .fusion-button.button-1:active .fusion-button-icon-divider{border-color:#ffffff;}.fusion-button.button-1{width:auto;}ISCRIVITI SUBITO\n
URL:https://stark-clone.sansalvastorie.it/event/stark%e2%80%8b-%e2%80%8bbody%e2%80%8b-%e2%80%8bflying%e2%80%8b%e2%80%8b-%e2%80%8bcorso%e2%80%8b-%e2%80%8bbody%e2%80%8b-%e2%80%8bflying%e2%80%8b-%e2%80%8bclassic-dubai-2/
LOCATION:Colegio Publico (Palestra) Escola Infantil – Colonia de sant Jordi\, Carrer Gabriel Roca\, 0\,\, Colonia de Sant Jordi\, Illes Balears\, 07638\, Spagna
ATTACH;FMTTYPE=image/jpeg:https://stark-clone.sansalvastorie.it/wp-content/uploads/2016/11/img-disciplina-generale.jpg
END:VEVENT
END:VCALENDAR