BEGIN:VCALENDAR
VERSION:2.0
PRODID:-//Stark Body Flying - ECPv4.6.25//NONSGML v1.0//EN
CALSCALE:GREGORIAN
METHOD:PUBLISH
X-WR-CALNAME:Stark Body Flying
X-ORIGINAL-URL:https://stark-clone.sansalvastorie.it
X-WR-CALDESC:Eventi per Stark Body Flying
BEGIN:VEVENT
DTSTART;TZID=Europe/Rome:20191207T093000
DTEND;TZID=Europe/Rome:20191208T150000
DTSTAMP:20260423T163901
CREATED:20191008T101607Z
LAST-MODIFIED:20191008T101607Z
UID:5458-1575711000-1575817200@stark-clone.sansalvastorie.it
SUMMARY:Corso istruttori STARK Body Flying®Acrobatica 7 e 8 Dicembre 2019 - Cesena
DESCRIPTION:Il tuo percorso formativo diventa più ricco di esercizi di combinazioni e di sequenze. Per i tuoi clienti ormai il divertimento è assicurato. Anche il cliente più esigente avrà l’esercizio adatto a lui che sia uno sportivo o un atleta professionista. La tua formazione salirà ad un livello intermedio avanzato. Una giornata ricca di nuovi spunti e stimoli. Nel manuale in dotazione saranno inserite tre lezioni tipo. \n\nA Chi è rivolto: Preparatori Fitness\, Pilates\, Yoga\, discipline musicali\, Personal trainer\, Insegnanti di danza\, Laureati in scienze motorie\, Atleti di tutte le discipline e specialisti del settore\, Massofisioterapisti e fisioterapisti\, Operatori del settore in genere.\n\n\nRequisiti: Preparazione al lavoro in sospensione e predisposizione per il lavoro di Acrobatica.\nDurata: Una giornata e mezza.\nRiconoscimento:\n\n-Attestato di partecipazione “Istruttore STARK Body Flying ACROBATICA® “\, rilasciato da Stark \, rilasciato al termine del corso che certifica la partecipazione alla formazione. \n.fusion-button.button-1 .fusion-button-text\, .fusion-button.button-1 i {color:#f44336;}.fusion-button.button-1 {border-width:2px;border-color:#f44336;}.fusion-button.button-1 .fusion-button-icon-divider{border-color:#f44336;}.fusion-button.button-1:hover .fusion-button-text\, .fusion-button.button-1:hover i\,.fusion-button.button-1:focus .fusion-button-text\, .fusion-button.button-1:focus i\,.fusion-button.button-1:active .fusion-button-text\, .fusion-button.button-1:active{color:#ffffff;}.fusion-button.button-1:hover\, .fusion-button.button-1:focus\, .fusion-button.button-1:active{border-width:2px;border-color:#ffffff;}.fusion-button.button-1:hover .fusion-button-icon-divider\, .fusion-button.button-1:hover .fusion-button-icon-divider\, .fusion-button.button-1:active .fusion-button-icon-divider{border-color:#ffffff;}.fusion-button.button-1{width:auto;}ISCRIVITI SUBITO\n
URL:https://stark-clone.sansalvastorie.it/event/modulo-stark-body-flying-acrobatica-cesena-2/
LOCATION:Accademia 49\, Via Don Giovanni Minzoni\, 390\, Cesena (FC)\, 47521\, Italia
ATTACH;FMTTYPE=image/jpeg:https://stark-clone.sansalvastorie.it/wp-content/uploads/2016/12/acrobatica2-2.jpg
END:VEVENT
END:VCALENDAR