BEGIN:VCALENDAR
VERSION:2.0
PRODID:-//Stark Body Flying - ECPv4.6.25//NONSGML v1.0//EN
CALSCALE:GREGORIAN
METHOD:PUBLISH
X-WR-CALNAME:Stark Body Flying
X-ORIGINAL-URL:https://stark-clone.sansalvastorie.it
X-WR-CALDESC:Eventi per Stark Body Flying
BEGIN:VEVENT
DTSTART;TZID=Europe/Rome:20191123T093000
DTEND;TZID=Europe/Rome:20191124T180000
DTSTAMP:20260423T175429
CREATED:20190801T125930Z
LAST-MODIFIED:20191011T132858Z
UID:5374-1574501400-1574618400@stark-clone.sansalvastorie.it
SUMMARY:Corso istruttori STARK Body Flying®Yoga 23 e 24 Novembre - Alessandria
DESCRIPTION:Tradizione e innovazione si incontrano con YOGA & Body Flying® \nL’idea è di conciliare una delle tecniche più antiche al mondo utilizzando uno strumento innovativo come il Body Flying che permette di sfruttare il proprio corpo a 360° rispetto allo Yoga tradizionale. \nLa pratica del programma Yoga & Body Flying®\, prevede una combinazione di esercizi da eseguire in sospensione parziale\, totale e in inversione\, volti a stimolare maggiormente equilibrio\, precisione\, controllo e concentrazione\, principi cardine della disciplina. Con l’attrezzo Body Flying la forza di gravità diventa un ottimo alleato per una maggiore allungamento corporeo specialmente negli esercizi in inversione. \nLe posizioni\, anche complesse\, risulteranno più facili da eseguire grazie ad un migliore allineamento posturale. Movimento e respiro saranno più fluidi e naturali\, ottenendo una piacevole sensazione di benessere e rilassamento. \nIl corso di formazione Yoga & Body Flying® si articola in 1 weekend a cui seguirà l’esame finale. Il percorso ha l’obiettivo di insegnare le basi dello Yoga tradizionale a cui verranno associate le posizioni con l’ausilio dell’amaca\, per facilitare\, guidare e rendere accessibili anche le posizioni più complesse. Sull’amaca si andranno a scoprire anche le altre tecniche dello yoga\, quali il pranayama\, gli yantra\, i mantra e la meditazione propriamente detta. \n\nRequisiti: Frequenza del corso STARK Body Flying ® Classic\nDurata: Due giornate\nCertificazione: Istruttore YOGA & Body Flying® con Diploma Stark \, Diploma MSP riconosciuto dal C.O.N.I. \, Tesserino tecnico operatore del benessere\, Patentino C.O.N.I.\, inserimento del nominativo con scheda personale sul sito internet Stark.\nA Chi è rivolto: Preparatori Fitness\, Pilates\, Yoga\, discipline musicali\, Personal trainer\, Insegnanti di danza\, Laureati in scienze motorie\, Atleti di tutte le discipline e specialisti del settore\, Massofisioterapisti e fisioterapisti\, Operatori del settore in genere.\n\n.fusion-button.button-1 .fusion-button-text\, .fusion-button.button-1 i {color:#f44336;}.fusion-button.button-1 {border-width:2px;border-color:#f44336;}.fusion-button.button-1 .fusion-button-icon-divider{border-color:#f44336;}.fusion-button.button-1:hover .fusion-button-text\, .fusion-button.button-1:hover i\,.fusion-button.button-1:focus .fusion-button-text\, .fusion-button.button-1:focus i\,.fusion-button.button-1:active .fusion-button-text\, .fusion-button.button-1:active{color:#ffffff;}.fusion-button.button-1:hover\, .fusion-button.button-1:focus\, .fusion-button.button-1:active{border-width:2px;border-color:#ffffff;}.fusion-button.button-1:hover .fusion-button-icon-divider\, .fusion-button.button-1:hover .fusion-button-icon-divider\, .fusion-button.button-1:active .fusion-button-icon-divider{border-color:#ffffff;}.fusion-button.button-1{width:auto;}ISCRIVITI SUBITO\n
URL:https://stark-clone.sansalvastorie.it/event/stark%e2%80%8b-%e2%80%8bbody%e2%80%8b-%e2%80%8bflying-corso-yoga-2-2-2-2-2/
LOCATION:Sede Stark Body Flying – Alessandria\, Via Donizetti\, 17/a\, Alessandria\, 15121\, Italia
ATTACH;FMTTYPE=image/jpeg:https://stark-clone.sansalvastorie.it/wp-content/uploads/2016/11/scheda-yoga.jpg
END:VEVENT
END:VCALENDAR