BEGIN:VCALENDAR
VERSION:2.0
PRODID:-//Stark Body Flying - ECPv4.6.25//NONSGML v1.0//EN
CALSCALE:GREGORIAN
METHOD:PUBLISH
X-WR-CALNAME:Stark Body Flying
X-ORIGINAL-URL:https://stark-clone.sansalvastorie.it
X-WR-CALDESC:Eventi per Stark Body Flying
BEGIN:VEVENT
DTSTART;TZID=Europe/Rome:20190428T093000
DTEND;TZID=Europe/Rome:20190428T180000
DTSTAMP:20260424T030425
CREATED:20161201T120333Z
LAST-MODIFIED:20190211T145811Z
UID:564-1556443800-1556474400@stark-clone.sansalvastorie.it
SUMMARY:Corso Istruttori Stark Body Flying®Kids - 28 Aprile 2019 - Parma
DESCRIPTION:\nLo sport diventa gioco con Kids & Body Flying® (6 a 12 anni)\n\nLa totale libertà di movimento nello spazio abbinato al gioco\, musica e colore\, renderà l’allenamento dei bambini più divertente; oltre a favorire la coordinazione e un corretto sviluppo muscolare\, indispensabili per la crescita psicomotoria.\nStark Body Flying® Kids  nasce dall’intuizione di far conciliare attività fisica e aspetto ludico\, entrambi essenziali per i processi evolutivi dell’infanzia poichè stimolano l’interazione fra mente e corpo.\nIl programma di allenamento si concentra su esercizi mirati a prevenire o correggere l’assunzione di cattive posture\, spesso causate dalla troppa sedentarietà\, per favorire l’allungamento e la flessibilità della colonna. Grazie a l’ausilio dell’attrezzo Body Flying\, inoltre\, migliora la propriocezione\, ossia la capacità di prendere coscienza del proprio corpo nello spazio\, molto utile per stabilire i corretti principi di movimento anche nella quotidianità e per acquisire fiducia in se stessi.\nLa componente del gioco non ha alcuna valenza agonistica e permette ai piccoli di scaricare le tensioni attraverso un’esperienza piacevole ed entusiasmante.\n\nRequisiti: Frequenza del corso STARK Body Flying ® Classic\nDurata: Una giornata\nCertificazione: Istruttore KIDS & Body flying® con Diploma Stark\, Diploma MSP riconosciuto dal C.O.N.I. \, Tesserino tecnico operatore del benessere\, Patentino C.O.N.I.\, inserimento del nominativo con scheda personale sul sito internet Stark.\nA Chi è rivolto: Preparatori Fitness\, Pilates\, Yoga\, discipline musicali\, Personal trainer\, Insegnanti di danza\, Laureati in scienze motorie\, Atleti di tutte le discipline e specialisti del settore\, Massofisioterapisti e fisioterapisti\, Operatori del settore in genere.\n\n.fusion-button.button-1 .fusion-button-text\, .fusion-button.button-1 i {color:#f44336;}.fusion-button.button-1 {border-width:2px;border-color:#f44336;}.fusion-button.button-1 .fusion-button-icon-divider{border-color:#f44336;}.fusion-button.button-1:hover .fusion-button-text\, .fusion-button.button-1:hover i\,.fusion-button.button-1:focus .fusion-button-text\, .fusion-button.button-1:focus i\,.fusion-button.button-1:active .fusion-button-text\, .fusion-button.button-1:active{color:#ffffff;}.fusion-button.button-1:hover\, .fusion-button.button-1:focus\, .fusion-button.button-1:active{border-width:2px;border-color:#ffffff;}.fusion-button.button-1:hover .fusion-button-icon-divider\, .fusion-button.button-1:hover .fusion-button-icon-divider\, .fusion-button.button-1:active .fusion-button-icon-divider{border-color:#ffffff;}.fusion-button.button-1{width:auto;}ISCRIVITI SUBITO\n
URL:https://stark-clone.sansalvastorie.it/event/modulo-stark-body-flying-kids/
LOCATION:La stanza accanto\, Via donatori di sangue 96/b\, Vigatto\, 43010
ATTACH;FMTTYPE=image/jpeg:https://stark-clone.sansalvastorie.it/wp-content/uploads/2016/11/kids-scheda-disciplina.jpg
END:VEVENT
END:VCALENDAR