BEGIN:VCALENDAR
VERSION:2.0
PRODID:-//Stark Body Flying - ECPv4.6.25//NONSGML v1.0//EN
CALSCALE:GREGORIAN
METHOD:PUBLISH
X-WR-CALNAME:Stark Body Flying
X-ORIGINAL-URL:https://stark-clone.sansalvastorie.it
X-WR-CALDESC:Eventi per Stark Body Flying
BEGIN:VEVENT
DTSTART;TZID=Europe/Rome:20190413T093000
DTEND;TZID=Europe/Rome:20190414T173000
DTSTAMP:20260424T030426
CREATED:20190115T155309Z
LAST-MODIFIED:20190305T153848Z
UID:4749-1555147800-1555263000@stark-clone.sansalvastorie.it
SUMMARY:Corso istruttori Stark Body Flying® 13 e 14 Aprile 2019 - Sardegna
DESCRIPTION:Durante queste due giornate scoprirai passo dopo passo tutti i principi del Metodo Stark Body Flying®\, un viaggio alla scoperta del lavoro in sospensione passando dalla filosofia all’anatomia dalla fisiologia alla postura. \nSarai guidato nella costruzione di lezioni da proporre ai tuoi clienti il manuale in dotazione faciliterà l’apprendimento del metodo con tutte le indicazione necessarie per creare una classe stimolante\, efficace e divertente. \n\nRequisiti: Per questo modulo non sono richiesti requisiti particolari\nDurata: Un week end + 1 giornata per la certificazione\n\nCOSTI: \nUn week end corso di formazione 360\,00 € \nUna giornata per la certificazione 160\,00 € \nCosto week end del corso di formazione + giornata per la certificazione 520\,00 € \nOFFERTA prenotando anticipatamente il pacchetto completo 490\,00 € anzichè 520\,00 \n\nCertificazione: Istruttore Certificato Stark Body Flying® con Diploma Stark\, Diploma MSP riconosciuto dal C.O.N.I.\, Patentino C.O.N.I. – certificazione al costo di 160\,00 €\nA Chi è rivolto: Preparatori Fitness\, Pilates\, Yoga\, discipline musicali\, Personal trainer\, Insegnanti di danza\, Laureati in scienze motorie\, Atleti di tutte le discipline e specialisti del settore\, Massofisioterapisti e fisioterapisti\, Operatori del settore in genere.\n\n.fusion-button.button-1 .fusion-button-text\, .fusion-button.button-1 i {color:#f44336;}.fusion-button.button-1 {border-width:2px;border-color:#f44336;}.fusion-button.button-1 .fusion-button-icon-divider{border-color:#f44336;}.fusion-button.button-1:hover .fusion-button-text\, .fusion-button.button-1:hover i\,.fusion-button.button-1:focus .fusion-button-text\, .fusion-button.button-1:focus i\,.fusion-button.button-1:active .fusion-button-text\, .fusion-button.button-1:active{color:#ffffff;}.fusion-button.button-1:hover\, .fusion-button.button-1:focus\, .fusion-button.button-1:active{border-width:2px;border-color:#ffffff;}.fusion-button.button-1:hover .fusion-button-icon-divider\, .fusion-button.button-1:hover .fusion-button-icon-divider\, .fusion-button.button-1:active .fusion-button-icon-divider{border-color:#ffffff;}.fusion-button.button-1{width:auto;}ISCRIVITI SUBITO\n
URL:https://stark-clone.sansalvastorie.it/event/stark%e2%80%8b-%e2%80%8bbody%e2%80%8b-%e2%80%8bflying%e2%80%8b-%e2%80%8b%e2%80%8bcorso%e2%80%8b-%e2%80%8bbody%e2%80%8b-%e2%80%8bflying%e2%80%8b-%e2%80%8bclassic-sardegna/
LOCATION:B FIT ASD FITNESS E DANZA – ARZACHENA\, V.LE COSTA SMERALDA\, ARZACHENA\, Italia\, 07021 
ATTACH;FMTTYPE=image/jpeg:https://stark-clone.sansalvastorie.it/wp-content/uploads/2016/11/img-disciplina-generale.jpg
END:VEVENT
BEGIN:VEVENT
DTSTART;TZID=Europe/Rome:20190413T093000
DTEND;TZID=Europe/Rome:20190414T173000
DTSTAMP:20260424T030426
CREATED:20190208T161408Z
LAST-MODIFIED:20190208T161917Z
UID:4903-1555147800-1555263000@stark-clone.sansalvastorie.it
SUMMARY:Corso istruttori Stark Body Flying® 13 e 14 Aprile 2019 - Catania
DESCRIPTION:Durante queste due giornate scoprirai passo dopo passo tutti i principi del Metodo Stark Body Flying®\, un viaggio alla scoperta del lavoro in sospensione passando dalla filosofia all’anatomia dalla fisiologia alla postura. \nSarai guidato nella costruzione di lezioni da proporre ai tuoi clienti il manuale in dotazione faciliterà l’apprendimento del metodo con tutte le indicazione necessarie per creare una classe stimolante\, efficace e divertente. \n\nRequisiti: Per questo modulo non sono richiesti requisiti particolari\nDurata: Un week end + 1 giornata per la certificazione\n\nCOSTI: \nUn week end corso di formazione 360\,00 € \nUna giornata per la certificazione 160\,00 € \nCosto week end del corso di formazione + giornata per la certificazione 520\,00 € \nOFFERTA prenotando anticipatamente il pacchetto completo 490\,00 € anzichè 520\,00 \n\nCertificazione: Istruttore Certificato Stark Body Flying® con Diploma Stark\, Diploma MSP riconosciuto dal C.O.N.I.\, Patentino C.O.N.I. – certificazione al costo di 160\,00 €\nA Chi è rivolto: Preparatori Fitness\, Pilates\, Yoga\, discipline musicali\, Personal trainer\, Insegnanti di danza\, Laureati in scienze motorie\, Atleti di tutte le discipline e specialisti del settore\, Massofisioterapisti e fisioterapisti\, Operatori del settore in genere.\n\n.fusion-button.button-2 .fusion-button-text\, .fusion-button.button-2 i {color:#f44336;}.fusion-button.button-2 {border-width:2px;border-color:#f44336;}.fusion-button.button-2 .fusion-button-icon-divider{border-color:#f44336;}.fusion-button.button-2:hover .fusion-button-text\, .fusion-button.button-2:hover i\,.fusion-button.button-2:focus .fusion-button-text\, .fusion-button.button-2:focus i\,.fusion-button.button-2:active .fusion-button-text\, .fusion-button.button-2:active{color:#ffffff;}.fusion-button.button-2:hover\, .fusion-button.button-2:focus\, .fusion-button.button-2:active{border-width:2px;border-color:#ffffff;}.fusion-button.button-2:hover .fusion-button-icon-divider\, .fusion-button.button-2:hover .fusion-button-icon-divider\, .fusion-button.button-2:active .fusion-button-icon-divider{border-color:#ffffff;}.fusion-button.button-2{width:auto;}ISCRIVITI SUBITO\n
URL:https://stark-clone.sansalvastorie.it/event/stark%e2%80%8b-%e2%80%8bbody%e2%80%8b-%e2%80%8bflying%e2%80%8b-%e2%80%8b%e2%80%8bcorso%e2%80%8b-%e2%80%8bbody%e2%80%8b-%e2%80%8bflying%e2%80%8b-%e2%80%8bclassic-catania/
LOCATION:Ultimate Performance\, Via Santangelo Fulci 17\, Catania\, Italia\, 95127
ATTACH;FMTTYPE=image/jpeg:https://stark-clone.sansalvastorie.it/wp-content/uploads/2016/11/img-disciplina-generale.jpg
END:VEVENT
END:VCALENDAR