BEGIN:VCALENDAR
VERSION:2.0
PRODID:-//Stark Body Flying - ECPv4.6.25//NONSGML v1.0//EN
CALSCALE:GREGORIAN
METHOD:PUBLISH
X-WR-CALNAME:Stark Body Flying
X-ORIGINAL-URL:https://stark-clone.sansalvastorie.it
X-WR-CALDESC:Eventi per Stark Body Flying
BEGIN:VEVENT
DTSTART;TZID=Europe/Rome:20180526T093000
DTEND;TZID=Europe/Rome:20180527T130000
DTSTAMP:20260424T155839
CREATED:20171220T094701Z
LAST-MODIFIED:20180507T102451Z
UID:3093-1527327000-1527426000@stark-clone.sansalvastorie.it
SUMMARY:Corso istruttori Stark Body Flying® 26 e 27 Maggio 2018 Catania
DESCRIPTION:Durante queste due giornate scoprirai passo dopo passo tutti i principi del Metodo Stark Body Flying®\, un viaggio alla scoperta del lavoro in sospensione passando dalla filosofia all’anatomia dalla fisiologia alla postura. \nSarai guidato nella costruzione di lezioni da proporre ai tuoi clienti il manuale in dotazione faciliterà l’apprendimento del metodo con tutte le indicazione necessarie per creare una classe stimolante\, efficace e divertente. \n\nA Chi è rivolto: Preparatori Fitness\, Pilates\, Yoga\, discipline musicali\, Personal trainer\, Insegnanti di danza\, Laureati in scienze motorie\, Atleti di tutte le discipline e specialisti del settore\, Massofisioterapisti e fisioterapisti\, Operatori del settore in genere.\nRequisiti: Per questo modulo non sono richiesti requisiti particolari\nDurata: Un week end + 1 giornata per la certificazione\, successiva al corso di formazione.\nMateriale fornito al corso:\n\n-Manuale di formazione \n-Materiale pubblicitario \n-Omaggio Stark® \n\nRiconoscimento:\n\n– Attestato di partecipazione “Istruttore STARK Body Flying ACROBATICA® “\, rilasciato da Stark \, rilasciato al termine del corso che certifica la partecipazione alla formazione. \n– Certificazione MSP riconosciuta dal C.O.N.I. e  Tesserino tecnico: la certificazione viene rilasciata al seguito del superamento di un esame da sostenersi successivamente al corso o in una giornata apposita di esami o on-line. \n-Inserimento del nominativo con scheda personale sul sito internet Stark \n\nCOSTI:\n\nUn week end corso di formazione 300\,00 € \nUna giornata per la certificazione 160\,00 €\, anche on-line. \nCosto week end del corso di formazione + giornata per la certificazione anche on-line\, 460\,00 €. \nOFFERTA prenotando anticipatamente il pacchetto completo 430\,00 € anzichè 460\,00 €. \n.fusion-button.button-1 .fusion-button-text\, .fusion-button.button-1 i {color:#f44336;}.fusion-button.button-1 {border-width:2px;border-color:#f44336;}.fusion-button.button-1 .fusion-button-icon-divider{border-color:#f44336;}.fusion-button.button-1:hover .fusion-button-text\, .fusion-button.button-1:hover i\,.fusion-button.button-1:focus .fusion-button-text\, .fusion-button.button-1:focus i\,.fusion-button.button-1:active .fusion-button-text\, .fusion-button.button-1:active{color:#ffffff;}.fusion-button.button-1:hover\, .fusion-button.button-1:focus\, .fusion-button.button-1:active{border-width:2px;border-color:#ffffff;}.fusion-button.button-1:hover .fusion-button-icon-divider\, .fusion-button.button-1:hover .fusion-button-icon-divider\, .fusion-button.button-1:active .fusion-button-icon-divider{border-color:#ffffff;}.fusion-button.button-1{width:auto;}ISCRIVITI SUBITO\n
URL:https://stark-clone.sansalvastorie.it/event/corso-istruttori-stark-body-flying-catania/
LOCATION:Ultimate Performance\, Via Santangelo Fulci 17\, Catania\, Italia\, 95127
ATTACH;FMTTYPE=image/jpeg:https://stark-clone.sansalvastorie.it/wp-content/uploads/2016/11/img-disciplina-generale.jpg
END:VEVENT
END:VCALENDAR