BEGIN:VCALENDAR
VERSION:2.0
PRODID:-//Stark Body Flying - ECPv4.6.25//NONSGML v1.0//EN
CALSCALE:GREGORIAN
METHOD:PUBLISH
X-WR-CALNAME:Stark Body Flying
X-ORIGINAL-URL:https://stark-clone.sansalvastorie.it
X-WR-CALDESC:Eventi per Stark Body Flying
BEGIN:VEVENT
DTSTART;TZID=Europe/Rome:20180325T090000
DTEND;TZID=Europe/Rome:20180325T180000
DTSTAMP:20260424T182703
CREATED:20180214T115129Z
LAST-MODIFIED:20180214T120042Z
UID:3212-1521968400-1522000800@stark-clone.sansalvastorie.it
SUMMARY:Corso istruttori Stark Body Flying® 25 Martie 2018 Ploiesti Romania
DESCRIPTION:Pe parcursul acestui curs de formare veți descoperi pas cu pas toate principiile metodei Stark Body Flying. Vom analiza principiile metodei Stark Body Flying la nivel anatomic\, la nivel postural\, la nivel fiziologic si la nivel funcțional\, cat și toate exercițiile în suspensie. \nVeți fi ghidați în construirea de lecții pe care să le propuneți clienților dumneavoastră. Manualul pe care vi-l punem la dispoziție vă va facilita însușirea metodei și cuprinde toate informațiile necesare pentru a crea un curs stimulant\, eficient și distractiv în același timp. \nCursul se desfășoară pe parcursul unei zi (cu durata de 8 ore). \nCostul total al cursului este de 180\,00€  \nCursurile sunt in principal destinate: \n\nInstructorilor de Fitness\, Pilates\, Yoga\, discipline muzicale\nPersonal Trainer-ilor\nProfesorilor de dans\nAbsolventilor de edeucatie fizica\nSportivilor din toate disciplinele si specialistilor din domeniu\nMassofizioterapeutilor si fizioterapeutilor\nOperatorilor din sector in general\n\n Stark Body Flying® certifica instructorii pentru predare in Italia si in strainatate\, acordand diploma M.S.P. \nCertificatul de participare emis de Stark Body Flying Italia \nInscrierea on-line pe pagina de web:  www.stark-Bodyflying.com \n.fusion-button.button-1 .fusion-button-text\, .fusion-button.button-1 i {color:#f44336;}.fusion-button.button-1 {border-width:2px;border-color:#f44336;}.fusion-button.button-1 .fusion-button-icon-divider{border-color:#f44336;}.fusion-button.button-1:hover .fusion-button-text\, .fusion-button.button-1:hover i\,.fusion-button.button-1:focus .fusion-button-text\, .fusion-button.button-1:focus i\,.fusion-button.button-1:active .fusion-button-text\, .fusion-button.button-1:active{color:#ffffff;}.fusion-button.button-1:hover\, .fusion-button.button-1:focus\, .fusion-button.button-1:active{border-width:2px;border-color:#ffffff;}.fusion-button.button-1:hover .fusion-button-icon-divider\, .fusion-button.button-1:hover .fusion-button-icon-divider\, .fusion-button.button-1:active .fusion-button-icon-divider{border-color:#ffffff;}.fusion-button.button-1{width:auto;}ISCRIVITI SUBITO\n
URL:https://stark-clone.sansalvastorie.it/event/corso-istruttori-stark-body-flying-25-martie-2018-ploiesti-romania/
LOCATION:Fitness Club Nico\, str. Roma 73 etj.\, Ploiesti\, Romania
ATTACH;FMTTYPE=image/jpeg:https://stark-clone.sansalvastorie.it/wp-content/uploads/2016/11/img-disciplina-generale.jpg
END:VEVENT
END:VCALENDAR