BEGIN:VCALENDAR
VERSION:2.0
PRODID:-//Stark Body Flying - ECPv4.6.25//NONSGML v1.0//EN
CALSCALE:GREGORIAN
METHOD:PUBLISH
X-WR-CALNAME:Stark Body Flying
X-ORIGINAL-URL:https://stark-clone.sansalvastorie.it
X-WR-CALDESC:Eventi per Stark Body Flying
BEGIN:VEVENT
DTSTART;TZID=Europe/Rome:20180128T093000
DTEND;TZID=Europe/Rome:20180128T180000
DTSTAMP:20260424T205811
CREATED:20171129T091458Z
LAST-MODIFIED:20171212T090746Z
UID:2969-1517131800-1517162400@stark-clone.sansalvastorie.it
SUMMARY:Corso istruttori STARK Body Flying®Pilates 28 Gennaio 2018 Milano
DESCRIPTION:Un percorso nel mondo del Pilates sviluppato e ampliato con l’utilizzo dell’attrezzo Body Flying. Il corso sviluppa la tecnica del Pilates in sospensione. Il repertorio Joseph Pilates Matwork (piccoli attrezzi) e Studio (Reformer\, Cadillac\, Ladder Barrel e Chair)  in abbinamento con il metodo STARK Body Flying® ti permetterà di proporre un pilates innovativo e divertente. \n\nRequisiti: Frequenza del corso STARK Body Flying ® Classic\nDurata: Una giornata\nCertificazione: Istruttore PILATES & Body Flying® con Diploma Stark \, Diploma MSP riconosciuto dal C.O.N.I.\, Tesserino tecnico operatore del benessere\, Patentino C.O.N.I.\, inserimento del nominativo con scheda personale sul sito internet Stark.\nA Chi è rivolto: Preparatori Fitness\, Pilates\, Yoga\, discipline musicali\, Personal trainer\, Insegnanti di danza\, Laureati in scienze motorie\, Atleti di tutte le discipline e specialisti del settore\, Massofisioterapisti e fisioterapisti\, Operatori del settore in genere.\n\n.fusion-button.button-1 .fusion-button-text\, .fusion-button.button-1 i {color:#f44336;}.fusion-button.button-1 {border-width:2px;border-color:#f44336;}.fusion-button.button-1 .fusion-button-icon-divider{border-color:#f44336;}.fusion-button.button-1:hover .fusion-button-text\, .fusion-button.button-1:hover i\,.fusion-button.button-1:focus .fusion-button-text\, .fusion-button.button-1:focus i\,.fusion-button.button-1:active .fusion-button-text\, .fusion-button.button-1:active{color:#ffffff;}.fusion-button.button-1:hover\, .fusion-button.button-1:focus\, .fusion-button.button-1:active{border-width:2px;border-color:#ffffff;}.fusion-button.button-1:hover .fusion-button-icon-divider\, .fusion-button.button-1:hover .fusion-button-icon-divider\, .fusion-button.button-1:active .fusion-button-icon-divider{border-color:#ffffff;}.fusion-button.button-1{width:auto;}ISCRIVITI SUBITO\n
URL:https://stark-clone.sansalvastorie.it/event/stark%e2%80%8b-%e2%80%8bbody%e2%80%8b-%e2%80%8bflying%e2%80%8b-%e2%80%8b%e2%80%8b%e2%80%8bcorso%e2%80%8b-%e2%80%8bpilates%e2%80%8b-%e2%80%8b%e2%80%8b%e2%80%8bbody%e2%80%8b-%e2%80%8bflying-2/
LOCATION:ATTRAZIONE DANZA SSD ARL\, Via Rosario Livantino 8\, Melzo (MI)\, Italia\, 20066\, Italia
ATTACH;FMTTYPE=image/jpeg:https://stark-clone.sansalvastorie.it/wp-content/uploads/2016/11/thumb-corso-pilates.jpg
END:VEVENT
END:VCALENDAR