BEGIN:VCALENDAR
VERSION:2.0
PRODID:-//Stark Body Flying - ECPv4.6.25//NONSGML v1.0//EN
CALSCALE:GREGORIAN
METHOD:PUBLISH
X-WR-CALNAME:Stark Body Flying
X-ORIGINAL-URL:https://stark-clone.sansalvastorie.it
X-WR-CALDESC:Eventi per Stark Body Flying
BEGIN:VEVENT
DTSTART;TZID=Europe/Rome:20171216T093000
DTEND;TZID=Europe/Rome:20171216T170000
DTSTAMP:20260424T221304
CREATED:20170811T150709Z
LAST-MODIFIED:20171128T094426Z
UID:2570-1513416600-1513443600@stark-clone.sansalvastorie.it
SUMMARY:Work Shop - 16 Dicembre Parma
DESCRIPTION:La Stark® organizza una serie di Work Shop\, che sono aperti ai trainer e agli operatori del settore. \nUn percorso di comprensione del Metodo a livello emozionale\, didattico e pratico su diversi argomenti. \nLa frequenza ai Work Shop ha validità come aggiornamento annuale per gli istruttori Certificati Stark. \n\nRequisiti: Per questo work shop non sono richiesti requisiti particolari\, può parteciparvi chiunque sia interessato a conoscere tali argomenti.\nDurata: Due ore per ogni Work Shop.\n\nCOSTI: \nUn Work Shop della durata di 2 ore 70\,00 € \nOFFERTA: Costo pacchetto completo 3 Work Shop 180\,00 €\, anzichè 210\,00 € \n\nA Chi è rivolto: Preparatori Fitness\, Pilates\, Yoga\, discipline musicali\, Personal trainer\, Insegnanti di danza\, Laureati in scienze motorie\, Atleti di tutte le discipline e specialisti del settore\, Massofisioterapisti e fisioterapisti\, Operatori del settore in genere. Interessatiti della materia dei vari Work Shop.\n\n.fusion-button.button-1 .fusion-button-text\, .fusion-button.button-1 i {color:#f44336;}.fusion-button.button-1 {border-width:2px;border-color:#f44336;}.fusion-button.button-1 .fusion-button-icon-divider{border-color:#f44336;}.fusion-button.button-1:hover .fusion-button-text\, .fusion-button.button-1:hover i\,.fusion-button.button-1:focus .fusion-button-text\, .fusion-button.button-1:focus i\,.fusion-button.button-1:active .fusion-button-text\, .fusion-button.button-1:active{color:#ffffff;}.fusion-button.button-1:hover\, .fusion-button.button-1:focus\, .fusion-button.button-1:active{border-width:2px;border-color:#ffffff;}.fusion-button.button-1:hover .fusion-button-icon-divider\, .fusion-button.button-1:hover .fusion-button-icon-divider\, .fusion-button.button-1:active .fusion-button-icon-divider{border-color:#ffffff;}.fusion-button.button-1{width:auto;}ISCRIVITI SUBITO\n
URL:https://stark-clone.sansalvastorie.it/event/work-shop-dicembre-parma/
ATTACH;FMTTYPE=image/png:https://stark-clone.sansalvastorie.it/wp-content/uploads/2017/08/work-shop-Barbara-PARMA.png
END:VEVENT
END:VCALENDAR