BEGIN:VCALENDAR
VERSION:2.0
PRODID:-//Stark Body Flying - ECPv4.6.25//NONSGML v1.0//EN
CALSCALE:GREGORIAN
METHOD:PUBLISH
X-WR-CALNAME:Stark Body Flying
X-ORIGINAL-URL:https://stark-clone.sansalvastorie.it
X-WR-CALDESC:Eventi per Stark Body Flying
BEGIN:VEVENT
DTSTART;TZID=Europe/Rome:20170902T093000
DTEND;TZID=Europe/Rome:20170902T180000
DTSTAMP:20260425T022021
CREATED:20170414T074221Z
LAST-MODIFIED:20171024T130827Z
UID:1907-1504344600-1504375200@stark-clone.sansalvastorie.it
SUMMARY:Certificazione M.S.P./C.O.N.I.
DESCRIPTION:\nUna giornata dedicata alla pratica e all’insegnamento. Durante la quale si potrà sostenere la verifica finale per il Diploma di Istruttore Stark certificato C.O.N.I.\nLa Stark è orgogliosa dei propri Trainer che in questi anni hanno permesso la diffusione del metodo nel mondo. La certificazione attesta la nostra competenza e professionalità. \n\nRequisiti: Corso istruttori Stark Body flying® S1-S2\nDurata: Una giornata\nModalità Certificazione: domande a risposta multipla e prova pratica di 15 minuti.\nCertificazione: : Istruttore Stark Body Flying® con Diploma Stark \, Diploma MSP riconosciuto dal C.O.N.I.\, Patentino C.O.N.I.\, inserimento del nominativo con scheda personale sul sito internet Stark\n\nNon perdere questa occasione per diventare Istruttore Certificato STARK Body Flying® inserito sul nostro sito! \n\n.fusion-button.button-1 .fusion-button-text\, .fusion-button.button-1 i {color:#f44336;}.fusion-button.button-1 {border-width:2px;border-color:#f44336;}.fusion-button.button-1 .fusion-button-icon-divider{border-color:#f44336;}.fusion-button.button-1:hover .fusion-button-text\, .fusion-button.button-1:hover i\,.fusion-button.button-1:focus .fusion-button-text\, .fusion-button.button-1:focus i\,.fusion-button.button-1:active .fusion-button-text\, .fusion-button.button-1:active{color:#ffffff;}.fusion-button.button-1:hover\, .fusion-button.button-1:focus\, .fusion-button.button-1:active{border-width:2px;border-color:#ffffff;}.fusion-button.button-1:hover .fusion-button-icon-divider\, .fusion-button.button-1:hover .fusion-button-icon-divider\, .fusion-button.button-1:active .fusion-button-icon-divider{border-color:#ffffff;}.fusion-button.button-1{width:auto;}ISCRIVITI SUBITO\n
URL:https://stark-clone.sansalvastorie.it/event/modulo-stark-body-flying-base-2-2-3/
ATTACH;FMTTYPE=image/jpeg:https://stark-clone.sansalvastorie.it/wp-content/uploads/2017/04/coni.jpg
END:VEVENT
END:VCALENDAR