BEGIN:VCALENDAR
VERSION:2.0
PRODID:-//Stark Body Flying - ECPv4.6.25//NONSGML v1.0//EN
CALSCALE:GREGORIAN
METHOD:PUBLISH
X-WR-CALNAME:Stark Body Flying
X-ORIGINAL-URL:https://stark-clone.sansalvastorie.it
X-WR-CALDESC:Eventi per Stark Body Flying
BEGIN:VEVENT
DTSTART;TZID=Europe/Rome:20161210T080000
DTEND;TZID=Europe/Rome:20161210T170000
DTSTAMP:20260425T151845
CREATED:20161201T115549Z
LAST-MODIFIED:20170419T084654Z
UID:557-1481356800-1481389200@stark-clone.sansalvastorie.it
SUMMARY:Corso istruttori STARK Body Flying®
DESCRIPTION:Durante queste due giornate scoprirai passo dopo passo tutti i principi del Metodo stark Body Flying®\, un viaggio alla scoperta del lavoro in sospensione passando dalla filosofia all’anatomia dalla fisiologia alla postura. \nSarai guidato nella costruzione di lezioni da proporre ai tuoi clienti il manuale in dotazione faciliterà l’apprendimento del metodo con tutte le indicazione necessarie per creare una classe stimolante\, efficace e divertente. \n\nRequisiti: Per questo modulo non sono richiesti requisiti particolari\nDurata: Un week end + 1 giornata per la certificazione\nCertificazione: Istruttore Certificato STARK Body Flying® con Diploma Stark\, Diploma MSP riconosciuto dal C.O.N.I.\, Tesserino tecnico operatore del benessere\, Patentino C.O.N.I.\n\n.fusion-button.button-1 .fusion-button-text\, .fusion-button.button-1 i {color:#f44336;}.fusion-button.button-1 {border-width:2px;border-color:#f44336;}.fusion-button.button-1 .fusion-button-icon-divider{border-color:#f44336;}.fusion-button.button-1:hover .fusion-button-text\, .fusion-button.button-1:hover i\,.fusion-button.button-1:focus .fusion-button-text\, .fusion-button.button-1:focus i\,.fusion-button.button-1:active .fusion-button-text\, .fusion-button.button-1:active{color:#ffffff;}.fusion-button.button-1:hover\, .fusion-button.button-1:focus\, .fusion-button.button-1:active{border-width:2px;border-color:#ffffff;}.fusion-button.button-1:hover .fusion-button-icon-divider\, .fusion-button.button-1:hover .fusion-button-icon-divider\, .fusion-button.button-1:active .fusion-button-icon-divider{border-color:#ffffff;}.fusion-button.button-1{width:auto;}ISCRIVITI SUBITO\n
URL:https://stark-clone.sansalvastorie.it/event/modulo-stark-body-flying-base/
LOCATION:Accademia 49\, Via Don Giovanni Minzoni\, 390\, Cesena (FC)\, 47521\, Italia
ATTACH;FMTTYPE=image/jpeg:https://stark-clone.sansalvastorie.it/wp-content/uploads/2016/11/img-disciplina-generale.jpg
ORGANIZER;CN="Antonella%20Faleschini":MAILTO:info@stark-clone.sansalvastorie.it
END:VEVENT
END:VCALENDAR