BEGIN:VCALENDAR
VERSION:2.0
PRODID:-//Stark Body Flying - ECPv4.6.25//NONSGML v1.0//EN
CALSCALE:GREGORIAN
METHOD:PUBLISH
X-WR-CALNAME:Stark Body Flying
X-ORIGINAL-URL:https://stark-clone.sansalvastorie.it
X-WR-CALDESC:Eventi per Stark Body Flying
BEGIN:VEVENT
DTSTART;TZID=Europe/Rome:20210411T140000
DTEND;TZID=Europe/Rome:20210411T170000
DTSTAMP:20260422T191601
CREATED:20210308T163020Z
LAST-MODIFIED:20210308T163227Z
UID:6721-1618149600-1618160400@stark-clone.sansalvastorie.it
SUMMARY:Workshop Body Flying e Scoliosi - Live su Zoom 11 Aprile 2021
DESCRIPTION:La Stark® organizza una serie di Workshop\, che sono aperti ai trainer e agli operatori del settore.\nUn percorso di comprensione del Metodo a livello emozionale\, didattico e pratico su diversi argomenti.\nLa frequenza ai Workshop ha validità come aggiornamento annuale per gli istruttori Certificati Stark. \nCOME FUNZIONA: \n\nCome dal vivo\nCon collegamento Zoom\, preferibilmente avendo l’attrezzo vicino per poter provare le posizioni.\nSeguirai la formazione nell’orario previsto dal corso\nA termine del corso riceverai l’attestato di partecipazione in formato digitale.\n\n.fusion-button.button-1 .fusion-button-text\, .fusion-button.button-1 i {color:#f44336;}.fusion-button.button-1 {border-width:2px;border-color:#f44336;}.fusion-button.button-1 .fusion-button-icon-divider{border-color:#f44336;}.fusion-button.button-1:hover .fusion-button-text\, .fusion-button.button-1:hover i\,.fusion-button.button-1:focus .fusion-button-text\, .fusion-button.button-1:focus i\,.fusion-button.button-1:active .fusion-button-text\, .fusion-button.button-1:active{color:#ffffff;}.fusion-button.button-1:hover\, .fusion-button.button-1:focus\, .fusion-button.button-1:active{border-width:2px;border-color:#ffffff;}.fusion-button.button-1:hover .fusion-button-icon-divider\, .fusion-button.button-1:hover .fusion-button-icon-divider\, .fusion-button.button-1:active .fusion-button-icon-divider{border-color:#ffffff;}.fusion-button.button-1{width:auto;}ISCRIVITI SUBITO\n 
URL:https://stark-clone.sansalvastorie.it/event/workshop-istruttori-stark-body-flying-on-line-2/
ATTACH;FMTTYPE=image/jpeg:https://stark-clone.sansalvastorie.it/wp-content/uploads/2021/03/vlcsnap-2020-04-07-10h21m25s541-Copia.jpg
END:VEVENT
END:VCALENDAR