BEGIN:VCALENDAR
VERSION:2.0
PRODID:-//Stark Body Flying - ECPv4.6.25//NONSGML v1.0//EN
CALSCALE:GREGORIAN
METHOD:PUBLISH
X-WR-CALNAME:Stark Body Flying
X-ORIGINAL-URL:https://stark-clone.sansalvastorie.it
X-WR-CALDESC:Eventi per Stark Body Flying
BEGIN:VEVENT
DTSTART;TZID=Europe/Rome:20171119T150000
DTEND;TZID=Europe/Rome:20171119T180000
DTSTAMP:20260424T233727
CREATED:20170908T072418Z
LAST-MODIFIED:20171109T163933Z
UID:2656-1511103600-1511114400@stark-clone.sansalvastorie.it
SUMMARY:Work Shop - 19 Novembre Milano
DESCRIPTION:La Stark® organizza una serie di Work Shop\, che sono aperti a tutti ! \nUn percorso di comprensione del Metodo a livello emozionale\, didattico e pratico su diversi argomenti. \nLa frequenza ai Work Shop ha validità come aggiornamento annuale per gli istruttori Certificati Stark. \n\nRequisiti: Per questo work shop non sono richiesti requisiti particolari\, può parteciparvi chiunque sia interessato a conoscere tali argomenti.\nDurata: Un’ ora e mezza per ogni Work Shop.\n\nCOSTI: \nUn Work Shop della durata di 1 ora e mezza 55\,00 € \nOFFERTA: Costo pacchetto completo 2 Work Shop 90\,00 €\, anzichè 110\,00 € \n\nA Chi è rivolto: Preparatori Fitness\, Pilates\, Yoga\, discipline musicali\, Personal trainer\, Insegnanti di danza\, Laureati in scienze motorie\, Atleti di tutte le discipline e specialisti del settore\, Massofisioterapisti e fisioterapisti\, Operatori del settore in genere. Interessatiti della materia dei vari Work Shop.\n\n.fusion-button.button-1 .fusion-button-text\, .fusion-button.button-1 i {color:#f44336;}.fusion-button.button-1 {border-width:2px;border-color:#f44336;}.fusion-button.button-1 .fusion-button-icon-divider{border-color:#f44336;}.fusion-button.button-1:hover .fusion-button-text\, .fusion-button.button-1:hover i\,.fusion-button.button-1:focus .fusion-button-text\, .fusion-button.button-1:focus i\,.fusion-button.button-1:active .fusion-button-text\, .fusion-button.button-1:active{color:#ffffff;}.fusion-button.button-1:hover\, .fusion-button.button-1:focus\, .fusion-button.button-1:active{border-width:2px;border-color:#ffffff;}.fusion-button.button-1:hover .fusion-button-icon-divider\, .fusion-button.button-1:hover .fusion-button-icon-divider\, .fusion-button.button-1:active .fusion-button-icon-divider{border-color:#ffffff;}.fusion-button.button-1{width:auto;}ISCRIVITI SUBITO\n 
URL:https://stark-clone.sansalvastorie.it/event/work-shop-milano/
LOCATION:Enjoy Pilates di Nadia Gobetto\, Corso di Porta Romana 90 \, Milano\, 20122\, Italia
ATTACH;FMTTYPE=image/png:https://stark-clone.sansalvastorie.it/wp-content/uploads/2017/09/work-shop-Flavia-NOVEMBRE.png
END:VEVENT
END:VCALENDAR