BEGIN:VCALENDAR
VERSION:2.0
PRODID:-//Stark Body Flying - ECPv4.6.25//NONSGML v1.0//EN
CALSCALE:GREGORIAN
METHOD:PUBLISH
X-WR-CALNAME:Stark Body Flying
X-ORIGINAL-URL:https://stark-clone.sansalvastorie.it
X-WR-CALDESC:Eventi per Stark Body Flying
BEGIN:VEVENT
DTSTART;TZID=Europe/Rome:20201024T090000
DTEND;TZID=Europe/Rome:20201025T170000
DTSTAMP:20260423T033959
CREATED:20200729T074829Z
LAST-MODIFIED:20200915T095804Z
UID:6216-1603530000-1603645200@stark-clone.sansalvastorie.it
SUMMARY:Corso istruttori STARK Body Flying®Yoga 24 e 25 Ottobre 2020 - Dal Vivo su Zoom
DESCRIPTION:Tradizione e innovazione si incontrano con YOGA & Body Flying® \nL’idea è di conciliare una delle tecniche più antiche al mondo utilizzando uno strumento innovativo come il Body Flying che permette di potersi muovere liberamente. \nIl corso di formazione Body Flying Yoga® si articola in 1 weekend. Durante queste due giornate\, con modalità Full immersion\, vengono analizzate le tecniche di Yoga in sospensione\, e saranno trattati gli aspetti teorici e pratici delle più importanti Asana. \nCOME FUNZIONA: \n\nCome dal vivo.\nCon collegamento Zoom\, preferibilmente avendo l’attrezzo vicino per poter provare le posizioni.\nSeguirai la formazione nell’orario previsto dal corso.\nDurata: Due giornate\nModalità: On line\, con collegamento Zoom.\nAl termine del corso viene rilasciato l’Attestato di partecipazione Stark.\nCertificazione CONI su richiesta.\n\n.fusion-button.button-1 .fusion-button-text\, .fusion-button.button-1 i {color:#f44336;}.fusion-button.button-1 {border-width:2px;border-color:#f44336;}.fusion-button.button-1 .fusion-button-icon-divider{border-color:#f44336;}.fusion-button.button-1:hover .fusion-button-text\, .fusion-button.button-1:hover i\,.fusion-button.button-1:focus .fusion-button-text\, .fusion-button.button-1:focus i\,.fusion-button.button-1:active .fusion-button-text\, .fusion-button.button-1:active{color:#ffffff;}.fusion-button.button-1:hover\, .fusion-button.button-1:focus\, .fusion-button.button-1:active{border-width:2px;border-color:#ffffff;}.fusion-button.button-1:hover .fusion-button-icon-divider\, .fusion-button.button-1:hover .fusion-button-icon-divider\, .fusion-button.button-1:active .fusion-button-icon-divider{border-color:#ffffff;}.fusion-button.button-1{width:auto;}ISCRIVITI SUBITO\n 
URL:https://stark-clone.sansalvastorie.it/event/stark%e2%80%8b-%e2%80%8bbody%e2%80%8b-%e2%80%8bflying-corso-yoga-2-2-2-2-2-2-2/
ATTACH;FMTTYPE=image/jpeg:https://stark-clone.sansalvastorie.it/wp-content/uploads/2016/11/scheda-yoga.jpg
END:VEVENT
END:VCALENDAR