BEGIN:VCALENDAR
VERSION:2.0
PRODID:-//Stark Body Flying - ECPv4.6.25//NONSGML v1.0//EN
CALSCALE:GREGORIAN
METHOD:PUBLISH
X-WR-CALNAME:Stark Body Flying
X-ORIGINAL-URL:https://stark-clone.sansalvastorie.it
X-WR-CALDESC:Eventi per Stark Body Flying
BEGIN:VEVENT
DTSTART;VALUE=DATE:20200919
DTEND;VALUE=DATE:20200920
DTSTAMP:20260423T045639
CREATED:20200821T103549Z
LAST-MODIFIED:20200821T103938Z
UID:6284-1600473600-1600559999@stark-clone.sansalvastorie.it
SUMMARY:Aggiornamento STARK Body Flying® 19 Settembre 2020 - Dal Vivo su Zoom
DESCRIPTION:La Stark consiglia di frequentare l’aggiornamento annuale! \nPer il 2020 propone: \n\nBody Flying nella la terza età.\nBody Flying e Scoliosi.\nBody Flying e e Stretching dei Meridiani.\n\nCOME FUNZIONA; \nOgni modulo ha una durata di 3 ore. \nScegli il modulo di tuo interesse. \nL’aggiornamento sarà fatto on line\, come dal vivo. Verrà fornito materiale didattico in formato digitale. \nSarà valido per mantenere attiva la tua qualifica di Istruttore. \n.fusion-button.button-1 .fusion-button-text\, .fusion-button.button-1 i {color:#f44336;}.fusion-button.button-1 {border-width:2px;border-color:#f44336;}.fusion-button.button-1 .fusion-button-icon-divider{border-color:#f44336;}.fusion-button.button-1:hover .fusion-button-text\, .fusion-button.button-1:hover i\,.fusion-button.button-1:focus .fusion-button-text\, .fusion-button.button-1:focus i\,.fusion-button.button-1:active .fusion-button-text\, .fusion-button.button-1:active{color:#ffffff;}.fusion-button.button-1:hover\, .fusion-button.button-1:focus\, .fusion-button.button-1:active{border-width:2px;border-color:#ffffff;}.fusion-button.button-1:hover .fusion-button-icon-divider\, .fusion-button.button-1:hover .fusion-button-icon-divider\, .fusion-button.button-1:active .fusion-button-icon-divider{border-color:#ffffff;}.fusion-button.button-1{width:auto;}ISCRIVITI SUBITO\n 
URL:https://stark-clone.sansalvastorie.it/event/stark%e2%80%8b-%e2%80%8bbody%e2%80%8b-%e2%80%8bflying-corso-yoga-2-2-2-2-2-2-2-2/
ATTACH;FMTTYPE=image/jpeg:https://stark-clone.sansalvastorie.it/wp-content/uploads/2017/05/IMG_0306.jpg
END:VEVENT
END:VCALENDAR