BEGIN:VCALENDAR
VERSION:2.0
PRODID:-//Stark Body Flying - ECPv4.6.25//NONSGML v1.0//EN
CALSCALE:GREGORIAN
METHOD:PUBLISH
X-WR-CALNAME:Stark Body Flying
X-ORIGINAL-URL:https://stark-clone.sansalvastorie.it
X-WR-CALDESC:Eventi per Stark Body Flying
BEGIN:VEVENT
DTSTART;TZID=Europe/Rome:20190524T093000
DTEND;TZID=Europe/Rome:20190525T173000
DTSTAMP:20260424T021155
CREATED:20190510T075843Z
LAST-MODIFIED:20190510T091818Z
UID:5066-1558690200-1558805400@stark-clone.sansalvastorie.it
SUMMARY:Convegno Benessere & Body Flying® 24 e 25 Maggio 2019 - Palma de Mallorca
DESCRIPTION:La Stark® festeggia il successo del Body Flying nel mondo. Abbiamo scelto l’isola di Palma de Majorca nella località Colonia de San Jordi conosciuta per spiagge incontaminate e selvagge. Potrai praticare lezioni di Body Flying\, Pilates e Yoga con Antonella Faleschini\, ideatrice del metodo e con Master Trainer Stark. \nIl Convegno si svilupperà nelle giornate del 24 e 25 maggio 2019\, per attività in sinergia con il mare e la natura. \nPer gli ospiti che desiderano fare attività fisica possono prenotare le lezioni a 15\,00 €/cad. \nPer il volo la compagnia più economica è Easy Jet. \nTi consigliamo di prenotare in autonomia il tuo volo il prima possibile\, così come l’Hotel ! \n\nRequisiti: Per questo Convegno non sono richiesti requisiti particolari.\nDurata: venerdì 24 e sabato 25 Maggio 2019\nCOSTI: 220\,00 €. la quota comprende:\n\nmateriale didattico\n5 ore al giorno di attività sulle più belle spiagge dell’isola\n1 cena maiorchina\n\n\nA Chi è rivolto: Trainer Stark Body Flying e a tutte le persone che vogliono provare un’esperienza sportiva unica\, su di un’isola da sogno !\n\nIn caso di rinuncia da parte dell’allievo\, la quota potrà essere rimborsata\, con disdetta comunicata almeno 10 gg prima della data del corso; trascorsi tali termini la quota non verrà più rimborsata\, tranne che in situazioni eccezionali che la STARK si riserva di valutare. \n.fusion-button.button-1 .fusion-button-text\, .fusion-button.button-1 i {color:#f44336;}.fusion-button.button-1 {border-width:2px;border-color:#f44336;}.fusion-button.button-1 .fusion-button-icon-divider{border-color:#f44336;}.fusion-button.button-1:hover .fusion-button-text\, .fusion-button.button-1:hover i\,.fusion-button.button-1:focus .fusion-button-text\, .fusion-button.button-1:focus i\,.fusion-button.button-1:active .fusion-button-text\, .fusion-button.button-1:active{color:#ffffff;}.fusion-button.button-1:hover\, .fusion-button.button-1:focus\, .fusion-button.button-1:active{border-width:2px;border-color:#ffffff;}.fusion-button.button-1:hover .fusion-button-icon-divider\, .fusion-button.button-1:hover .fusion-button-icon-divider\, .fusion-button.button-1:active .fusion-button-icon-divider{border-color:#ffffff;}.fusion-button.button-1{width:auto;}ISCRIVITI SUBITO\n 
URL:https://stark-clone.sansalvastorie.it/event/stark%e2%80%8b-%e2%80%8bbody%e2%80%8b-%e2%80%8bflying%e2%80%8b-%e2%80%8b%e2%80%8bconvegno%e2%80%8b-%e2%80%8bbody-flying-palma-de-mallorca/
ATTACH;FMTTYPE=image/jpeg:https://stark-clone.sansalvastorie.it/wp-content/uploads/2019/05/IMG-20190503-WA0013.jpg
ORGANIZER;CN="Antonella%20Faleschini":MAILTO:info@stark-clone.sansalvastorie.it
END:VEVENT
END:VCALENDAR