BEGIN:VCALENDAR
VERSION:2.0
PRODID:-//Stark Body Flying - ECPv4.6.25//NONSGML v1.0//EN
CALSCALE:GREGORIAN
METHOD:PUBLISH
X-WR-CALNAME:Stark Body Flying
X-ORIGINAL-URL:https://stark-clone.sansalvastorie.it
X-WR-CALDESC:Eventi per Stark Body Flying
BEGIN:VEVENT
DTSTART;TZID=Europe/Rome:20221022T093000
DTEND;TZID=Europe/Rome:20221023T173000
DTSTAMP:20260420T202639
CREATED:20221006T152438Z
LAST-MODIFIED:20221006T152438Z
UID:7233-1666431000-1666546200@stark-clone.sansalvastorie.it
SUMMARY:Corso istruttori Stark Body Flying® 22 e 23 Ottobre 2022 - ALESSANDRIA  e dal Vivo su Zoom
DESCRIPTION:Durante queste giornate scoprirai passo dopo passo tutti i principi del Metodo Stark Body Flying®\, un viaggio alla scoperta del lavoro in sospensione trattando elementi di anatomia\, fisiologia e postura. \nSarai guidato nella costruzione di lezioni da proporre ai tuoi clienti il manuale in dotazione faciliterà l’apprendimento del metodo con tutte le indicazione necessarie per creare una classe stimolante\, efficace e divertente. \nCOME FUNZIONA: \n\nIn Alessandria\, dal vivo presso la sede Stark e live su Zoom\nCon collegamento Zoom\, preferibilmente avendo l’attrezzo vicino per poter provare le posizioni.\nSeguirai la formazione nell’orario previsto dal corso.\nA termine del corso riceverai l’attestato di partecipazione\nRequisiti: Per questo modulo non sono richiesti requisiti particolari\nDurata: Due giorni di formazione\, con due manuali di 130 pag. totali in formato digitale.\nCOSTI: Corso di formazione 360\,00 €. Prezzo in Offerta 300 €.\nCertificazione su richiesta.\n\n.fusion-button.button-1 .fusion-button-text\, .fusion-button.button-1 i {color:#f44336;}.fusion-button.button-1 {border-width:2px;border-color:#f44336;}.fusion-button.button-1 .fusion-button-icon-divider{border-color:#f44336;}.fusion-button.button-1:hover .fusion-button-text\, .fusion-button.button-1:hover i\,.fusion-button.button-1:focus .fusion-button-text\, .fusion-button.button-1:focus i\,.fusion-button.button-1:active .fusion-button-text\, .fusion-button.button-1:active{color:#ffffff;}.fusion-button.button-1:hover\, .fusion-button.button-1:focus\, .fusion-button.button-1:active{border-width:2px;border-color:#ffffff;}.fusion-button.button-1:hover .fusion-button-icon-divider\, .fusion-button.button-1:hover .fusion-button-icon-divider\, .fusion-button.button-1:active .fusion-button-icon-divider{border-color:#ffffff;}.fusion-button.button-1{width:auto;}ISCRIVITI SUBITO\n 
URL:https://stark-clone.sansalvastorie.it/event/stark%e2%80%8b-%e2%80%8bbody%e2%80%8b-%e2%80%8bflying%e2%80%8b-%e2%80%8b%e2%80%8b-%e2%80%8bcorso%e2%80%8b-%e2%80%8bbody%e2%80%8b-%e2%80%8bflying%e2%80%8b-%e2%80%8bclassic-5-2-2-2-3-4-2-2-2-2-2-2-3-2-8/
LOCATION:Sede Stark Body Flying – Alessandria\, Via Donizetti\, 17/a\, Alessandria\, 15121\, Italia
ATTACH;FMTTYPE=image/jpeg:https://stark-clone.sansalvastorie.it/wp-content/uploads/2016/11/img-disciplina-generale.jpg
END:VEVENT
END:VCALENDAR