BEGIN:VCALENDAR
VERSION:2.0
PRODID:-//Stark Body Flying - ECPv4.6.25//NONSGML v1.0//EN
CALSCALE:GREGORIAN
METHOD:PUBLISH
X-WR-CALNAME:Stark Body Flying
X-ORIGINAL-URL:https://stark-clone.sansalvastorie.it
X-WR-CALDESC:Eventi per Stark Body Flying
BEGIN:VEVENT
DTSTART;TZID=Europe/Rome:20211128T093000
DTEND;TZID=Europe/Rome:20211128T120000
DTSTAMP:20260422T095941
CREATED:20211007T100405Z
LAST-MODIFIED:20211007T100405Z
UID:6948-1638091800-1638100800@stark-clone.sansalvastorie.it
SUMMARY:Work Shop Stark Body Flying® Yoga - 28 Novembre 2021 - ON LINE su Zoom
DESCRIPTION:\nDurante questo Workshop pratico andremo ad analizzare le Asana sul Body Flying per poi metterle in sequenza per una lezione da proporre agli allievi che si avvicinano a questo nuovo metodo di Yoga in sospensione. \nIl Workshop si svolgerà nell’orario previsto dalle 9.30 alle 12.00  on line su Zoom direttamente con l’ideatrice del Metodo Antonella Faleschini \nQuesto Workshop è consigliato come propedeutica al corso di formazione Stark Body Flying Yoga e a chi desidera approfondire il Body Flying Yoga \nE’ consigliabile avere il Body Flying attrezzo accanto alla postazione per provare i vari esercizi. \nA seguito del Workshop sarà mandata la registrazione della lezione e attestato di partecipazione. \n\nCOME FUNZIONA: \n\nCome dal vivo.\nCon collegamento Zoom\, preferibilmente avendo l’attrezzo vicino per poter provare le posizioni.\nSeguirai la formazione nell’orario previsto dal corso.\nDurata: Due ore e mezza\nAttestato di partecipazione\n\n.fusion-button.button-1 .fusion-button-text\, .fusion-button.button-1 i {color:#f44336;}.fusion-button.button-1 {border-width:2px;border-color:#f44336;}.fusion-button.button-1 .fusion-button-icon-divider{border-color:#f44336;}.fusion-button.button-1:hover .fusion-button-text\, .fusion-button.button-1:hover i\,.fusion-button.button-1:focus .fusion-button-text\, .fusion-button.button-1:focus i\,.fusion-button.button-1:active .fusion-button-text\, .fusion-button.button-1:active{color:#ffffff;}.fusion-button.button-1:hover\, .fusion-button.button-1:focus\, .fusion-button.button-1:active{border-width:2px;border-color:#ffffff;}.fusion-button.button-1:hover .fusion-button-icon-divider\, .fusion-button.button-1:hover .fusion-button-icon-divider\, .fusion-button.button-1:active .fusion-button-icon-divider{border-color:#ffffff;}.fusion-button.button-1{width:auto;}ISCRIVITI SUBITO\n 
URL:https://stark-clone.sansalvastorie.it/event/modulo-stark-body-flying-workshop-yoga-2/
ATTACH;FMTTYPE=image/jpeg:https://stark-clone.sansalvastorie.it/wp-content/uploads/2016/08/Bodyflying-parquet-1000px4.jpg
END:VEVENT
END:VCALENDAR