BEGIN:VCALENDAR
VERSION:2.0
PRODID:-//Stark Body Flying - ECPv4.6.25//NONSGML v1.0//EN
CALSCALE:GREGORIAN
METHOD:PUBLISH
X-WR-CALNAME:Stark Body Flying
X-ORIGINAL-URL:https://stark-clone.sansalvastorie.it
X-WR-CALDESC:Eventi per Stark Body Flying
BEGIN:VEVENT
DTSTART;TZID=Europe/Rome:20230416T093000
DTEND;TZID=Europe/Rome:20230416T173000
DTSTAMP:20260420T092735
CREATED:20220921T145655Z
LAST-MODIFIED:20230125T152358Z
UID:7216-1681637400-1681666200@stark-clone.sansalvastorie.it
SUMMARY:Corso istruttori STARK Body Flying® Functional 16 Aprile 2023 - MILANO e live su Zoom
DESCRIPTION:Una giornata full-immertion\, dedicata all’allenamento funzionale\, dove le manopole e il drappo centrale vengono utilizzate per aumentare la forza. \n\nDurata: Una giornata\nCertificazione: Istruttore FUNCTIONAL& Body Flying® con Attestato  Stark.\n\nCOME FUNZIONA su Zoom:\n• Come dal vivo\n• Con collegamento Zoom\, preferibilmente avendo l’attrezzo ORIGINALE vicino per poter provare le posizioni. \n\nA Chi è rivolto: Preparatori Fitness\, Pilates\, Yoga\, discipline musicali\, Personal trainer\, Insegnanti di danza\, Laureati in scienze motorie\, Atleti di tutte le discipline e specialisti del settore\, Massofisioterapisti e fisioterapisti\, Operatori del settore in genere.\n\n.fusion-button.button-1 .fusion-button-text\, .fusion-button.button-1 i {color:#f44336;}.fusion-button.button-1 {border-width:2px;border-color:#f44336;}.fusion-button.button-1 .fusion-button-icon-divider{border-color:#f44336;}.fusion-button.button-1:hover .fusion-button-text\, .fusion-button.button-1:hover i\,.fusion-button.button-1:focus .fusion-button-text\, .fusion-button.button-1:focus i\,.fusion-button.button-1:active .fusion-button-text\, .fusion-button.button-1:active{color:#ffffff;}.fusion-button.button-1:hover\, .fusion-button.button-1:focus\, .fusion-button.button-1:active{border-width:2px;border-color:#ffffff;}.fusion-button.button-1:hover .fusion-button-icon-divider\, .fusion-button.button-1:hover .fusion-button-icon-divider\, .fusion-button.button-1:active .fusion-button-icon-divider{border-color:#ffffff;}.fusion-button.button-1{width:auto;}ISCRIVITI SUBITO\n 
URL:https://stark-clone.sansalvastorie.it/event/corso-istruttori-stark-body-flying-functional-milano-3-2/
LOCATION:Studio “Yoga Ischia”\, Via Provinciale Lacco 104\, Forio - Ischia (NA)\, Italia\, 80075\, Italia
ATTACH;FMTTYPE=image/jpeg:https://stark-clone.sansalvastorie.it/wp-content/uploads/2022/03/28751216_206083650143363_1688542254706196480_n.jpg
END:VEVENT
END:VCALENDAR