BEGIN:VCALENDAR
VERSION:2.0
PRODID:-//Stark Body Flying - ECPv4.6.25//NONSGML v1.0//EN
CALSCALE:GREGORIAN
METHOD:PUBLISH
X-WR-CALNAME:Stark Body Flying
X-ORIGINAL-URL:https://stark-clone.sansalvastorie.it
X-WR-CALDESC:Eventi per Stark Body Flying
BEGIN:VEVENT
DTSTART;TZID=Europe/Rome:20191109T093000
DTEND;TZID=Europe/Rome:20191109T173000
DTSTAMP:20260423T175848
CREATED:20191008T095530Z
LAST-MODIFIED:20191008T095530Z
UID:5450-1573291800-1573320600@stark-clone.sansalvastorie.it
SUMMARY:Corso istruttori STARK Body Flying®Functional 9 Novembre 2019 - Pompei
DESCRIPTION:Una giornata full-immertion\, dedicata all’allenamento funzionale\, dove le manopole e il drappo centrale vengono utilizzate per aumentare la forza. \n\nDurata: Una giornata\nCertificazione: Istruttore FUNCTIONAL& Body Flying® con Attestato  Stark.\nA Chi è rivolto: Preparatori Fitness\, Pilates\, Yoga\, discipline musicali\, Personal trainer\, Insegnanti di danza\, Laureati in scienze motorie\, Atleti di tutte le discipline e specialisti del settore\, Massofisioterapisti e fisioterapisti\, Operatori del settore in genere e appassionati del Pilates.\n\n.fusion-button.button-1 .fusion-button-text\, .fusion-button.button-1 i {color:#f44336;}.fusion-button.button-1 {border-width:2px;border-color:#f44336;}.fusion-button.button-1 .fusion-button-icon-divider{border-color:#f44336;}.fusion-button.button-1:hover .fusion-button-text\, .fusion-button.button-1:hover i\,.fusion-button.button-1:focus .fusion-button-text\, .fusion-button.button-1:focus i\,.fusion-button.button-1:active .fusion-button-text\, .fusion-button.button-1:active{color:#ffffff;}.fusion-button.button-1:hover\, .fusion-button.button-1:focus\, .fusion-button.button-1:active{border-width:2px;border-color:#ffffff;}.fusion-button.button-1:hover .fusion-button-icon-divider\, .fusion-button.button-1:hover .fusion-button-icon-divider\, .fusion-button.button-1:active .fusion-button-icon-divider{border-color:#ffffff;}.fusion-button.button-1{width:auto;}ISCRIVITI SUBITO\n 
URL:https://stark-clone.sansalvastorie.it/event/corso-istruttori-stark-body-flying-functional-2-2-2-2/
LOCATION:Balanced Club Pompei\, VIA SCACCIAPENSIERI\, 21\, Pompei\, 80045 \, Italia
ATTACH;FMTTYPE=image/jpeg:https://stark-clone.sansalvastorie.it/wp-content/uploads/2018/12/PC120219.jpg
END:VEVENT
END:VCALENDAR